BEGIN:VCALENDAR
VERSION:2.0
PRODID:-//pretix//eveytix.live//
BEGIN:VTIMEZONE
TZID:Africa/Tunis
BEGIN:STANDARD
DTSTART:20000101T000000
RRULE:FREQ=YEARLY;BYMONTH=1;UNTIL=20031231T230000Z
TZNAME:CET
TZOFFSETFROM:+0100
TZOFFSETTO:+0100
END:STANDARD
BEGIN:STANDARD
DTSTART:20050930T020000
RRULE:FREQ=YEARLY;BYDAY=5FR;BYMONTH=9;UNTIL=20050930T000000Z
TZNAME:CET
TZOFFSETFROM:+0200
TZOFFSETTO:+0100
END:STANDARD
BEGIN:STANDARD
DTSTART:20061029T030000
RRULE:FREQ=YEARLY;BYDAY=-1SU;BYMONTH=10
TZNAME:CET
TZOFFSETFROM:+0200
TZOFFSETTO:+0100
END:STANDARD
BEGIN:DAYLIGHT
DTSTART:20050501T000000
RRULE:FREQ=YEARLY;BYDAY=1SU;BYMONTH=5;UNTIL=20050430T230000Z
TZNAME:CEST
TZOFFSETFROM:+0100
TZOFFSETTO:+0200
END:DAYLIGHT
BEGIN:DAYLIGHT
DTSTART:20060326T020000
RRULE:FREQ=YEARLY;BYDAY=-1SU;BYMONTH=3;UNTIL=20080330T010000Z
TZNAME:CEST
TZOFFSETFROM:+0100
TZOFFSETTO:+0200
END:DAYLIGHT
END:VTIMEZONE
BEGIN:VEVENT
UID:pretix-STMLB-JMLB24-0@eveytix.live
DTSTART;TZID=Africa/Tunis:20250524T143000
DTEND;TZID=Africa/Tunis:20250525T140000
DESCRIPTION:Tickets: https://eveytix.live/STMLB/JMLB24/\nOrganizer: STMLB
DTSTAMP:20260419T125928Z
LOCATION:Andalucia Beach Hotel - Bizerte
SUMMARY:24èmes Journées de Médecine Libérale de Bizerte
END:VEVENT
END:VCALENDAR
