BEGIN:VCALENDAR
VERSION:2.0
PRODID:-//pretix//eveytix.live//
BEGIN:VEVENT
UID:pretix-express-fm-BITSE-0@eveytix.live
DTSTART:20250225T090000Z
DTEND:20250226T180000Z
DESCRIPTION:Tickets: https://eveytix.live/express-fm/BITSE/\nOrganizer: Exp
 ress FM
DTSTAMP:20260419T122935Z
LOCATION:CITE DE LA CULTURE\, TUNIS
SUMMARY:Business IT Solutions Expo
END:VEVENT
END:VCALENDAR
